Workbook

Sheet Sheet1
A1: Exported from MDSS on July 20, 2026 at 8:46 AM
A2: InvestigationID | B2: NETSSID | C2: JURISDICTION | D2: Onset_Date | E2: Diagnosis_Date | F2: Referral_Date | G2: Patient_Status | H2: Case_Disposition | I2: Date_of_Death | J2: Date_of_Birth | K2: Age | L2: Age_Units | M2: Sex | N2: Patient_Hospitalized | O2: Admission_Date | P2: Patient_Died | Q2: Month | R2: One
A3: 50029313384 | B3: 9544276 | C3: Ingham County | D3: 41992 | E3: 42005 | F3: 42005 | G3: A | H3: O | I3: NA | J3: 38982 | K3: 8 | L3: Years | M3: Male | N3: N | O3: NA | P3: Survived | Q3: =E3 -> 42005 | R3: 1
A4: 50094887643 | B4: 9620684 | C4: Ingham County | D4: 42015 | E4: 42029 | F4: 42031 | G4: A | H4: O | I4: NA | J4: 37741 | K4: 11 | L4: Years | M4: Male | N4: N | O4: NA | P4: Survived | Q4: =E4 -> 42029 | R4: 1
A5: 50064278482 | B5: 9053669 | C5: Ingham County | D5: 42065 | E5: 42079 | F5: 42081 | G5: A | H5: O | I5: NA | J5: 37651 | K5: 12 | L5: Years | M5: Female | N5: N | O5: NA | P5: Survived | Q5: =E5 -> 42079 | R5: 1
A6: 50091809198 | B6: 9790179 | C6: Ingham County | D6: 42133 | E6: 42138 | F6: 42139 | G6: A | H6: I | I6: NA | J6: 38257 | K6: 10 | L6: Years | M6: Female | N6: Y | O6: 42154 | P6: Survived | Q6: =E6 -> 42138 | R6: 1
A7: 50009619282 | B7: 9947773 | C7: Ingham County | D7: 42172 | E7: 42177 | F7: 42177 | G7: A | H7: O | I7: NA | J7: 37340 | K7: 13 | L7: Years | M7: Male | N7: N | O7: NA | P7: Survived | Q7: =E7 -> 42177 | R7: 1
A8: 50016127508 | B8: 9849523 | C8: Ingham County | D8: 42182 | E8: 42194 | F8: 42194 | G8: A | H8: I | I8: NA | J8: 37785 | K8: 12 | L8: Years | M8: Female | N8: Y | O8: 42205 | P8: Survived | Q8: =E8 -> 42194 | R8: 1
A9: 50000828023 | B9: 9851376 | C9: Ingham County | D9: 42191 | E9: 42196 | F9: 42198 | G9: A | H9: O | I9: NA | J9: 37281 | K9: 13 | L9: Years | M9: Male | N9: N | O9: NA | P9: Survived | Q9: =E9 -> 42196 | R9: 1
A10: 50055258308 | B10: 9206217 | C10: Ingham County | D10: 42232 | E10: 42248 | F10: 42248 | G10: A | H10: O | I10: NA | J10: 37285 | K10: 13 | L10: Years | M10: Female | N10: N | O10: NA | P10: Survived | Q10: =E10 -> 42248 | R10: 1
A11: 50037692115 | B11: 9457387 | C11: Ingham County | D11: 42270 | E11: 42279 | F11: 42280 | G11: A | H11: O | I11: NA | J11: 39000 | K11: 8 | L11: Years | M11: Male | N11: N | O11: NA | P11: Survived | Q11: =E11 -> 42279 | R11: 1
A12: 50015384335 | B12: 9152994 | C12: Ingham County | D12: 42340 | E12: 42359 | F12: 42359 | G12: A | H12: O | I12: NA | J12: 38089 | K12: 11 | L12: Years | M12: Female | N12: N | O12: NA | P12: Survived | Q12: =E12 -> 42359 | R12: 1
A13: 50097956023 | B13: 9705457 | C13: Ingham County | D13: 42347 | E13: 42363 | F13: 42363 | G13: A | H13: O | I13: NA | J13: 38633 | K13: 10 | L13: Years | M13: Male | N13: N | O13: NA | P13: Survived | Q13: =E13 -> 42363 | R13: 1
A14: 50060436628 | B14: 9035939 | C14: Ingham County | D14: 42348 | E14: 42368 | F14: 42368 | G14: A | H14: O | I14: NA | J14: 38848 | K14: 9 | L14: Years | M14: Female | N14: N | O14: NA | P14: Survived | Q14: =E14 -> 42368 | R14: 1
A15: 50034303079 | B15: 9004908 | C15: Ingham County | D15: 42358 | E15: 42370 | F15: 42372 | G15: A | H15: O | I15: NA | J15: 37931 | K15: 12 | L15: Years | M15: Male | N15: N | O15: NA | P15: Survived | Q15: =E15 -> 42370 | R15: 1
A16: 50076779957 | B16: 9331084 | C16: Ingham County | D16: 42379 | E16: 42398 | F16: 42398 | G16: A | H16: O | I16: NA | J16: 37569 | K16: 13 | L16: Years | M16: Female | N16: N | O16: NA | P16: Survived | Q16: =E16 -> 42398 | R16: 1
A17: 50059592265 | B17: 9905761 | C17: Ingham County | D17: 42421 | E17: 42437 | F17: 42437 | G17: A | H17: O | I17: NA | J17: 37628 | K17: 13 | L17: Years | M17: Male | N17: N | O17: NA | P17: Survived | Q17: =E17 -> 42437 | R17: 1
A18: 50077996368 | B18: 9089107 | C18: Ingham County | D18: 42469 | E18: 42477 | F18: 42477 | G18: A | H18: O | I18: NA | J18: 38536 | K18: 10 | L18: Years | M18: Female | N18: N | O18: NA | P18: Survived | Q18: =E18 -> 42477 | R18: 1
A19: 50004673226 | B19: 9722822 | C19: Ingham County | D19: 42469 | E19: 42489 | F19: 42489 | G19: A | H19: O | I19: NA | J19: 38358 | K19: 11 | L19: Years | M19: Female | N19: N | O19: NA | P19: Survived | Q19: =E19 -> 42489 | R19: 1
A20: 50084061537 | B20: 9798591 | C20: Ingham County | D20: 42485 | E20: 42500 | F20: 42503 | G20: A | H20: O | I20: NA | J20: 39352 | K20: 8 | L20: Years | M20: Female | N20: N | O20: NA | P20: Survived | Q20: =E20 -> 42500 | R20: 1
A21: 50014123368 | B21: 9633161 | C21: Ingham County | D21: 42498 | E21: 42515 | F21: 42516 | G21: A | H21: I | I21: NA | J21: 38913 | K21: 9 | L21: Years | M21: Male | N21: Y | O21: 42522 | P21: Survived | Q21: =E21 -> 42515 | R21: 1
A22: 50004520273 | B22: 9795576 | C22: Ingham County | D22: 42530 | E22: 42547 | F22: 42548 | G22: A | H22: O | I22: NA | J22: 38976 | K22: 9 | L22: Years | M22: Female | N22: N | O22: NA | P22: Survived | Q22: =E22 -> 42547 | R22: 1
A23: 50064432105 | B23: 9534422 | C23: Ingham County | D23: 42560 | E23: 42566 | F23: 42566 | G23: A | H23: O | I23: NA | J23: 39523 | K23: 8 | L23: Years | M23: Female | N23: N | O23: NA | P23: Survived | Q23: =E23 -> 42566 | R23: 1
A24: 50038113632 | B24: 9393144 | C24: Ingham County | D24: 42577 | E24: 42585 | F24: 42585 | G24: A | H24: O | I24: NA | J24: 39416 | K24: 8 | L24: Years | M24: Male | N24: N | O24: NA | P24: Survived | Q24: =E24 -> 42585 | R24: 1
A25: 50004749062 | B25: 9239410 | C25: Ingham County | D25: 42609 | E25: 42622 | F25: 42624 | G25: A | H25: O | I25: NA | J25: 37690 | K25: 13 | L25: Years | M25: Male | N25: N | O25: NA | P25: Survived | Q25: =E25 -> 42622 | R25: 1
A26: 50031934105 | B26: 9261282 | C26: Ingham County | D26: 42705 | E26: 42720 | F26: 42720 | G26: A | H26: O | I26: NA | J26: 37903 | K26: 13 | L26: Years | M26: Male | N26: N | O26: NA | P26: Survived | Q26: =E26 -> 42720 | R26: 1
A27: 50090996420 | B27: 9403973 | C27: Ingham County | D27: 42728 | E27: 42746 | F27: 42747 | G27: A | H27: O | I27: NA | J27: 39568 | K27: 8 | L27: Years | M27: Male | N27: N | O27: NA | P27: Survived | Q27: =E27 -> 42746 | R27: 1
A28: 50023482301 | B28: 9935191 | C28: Ingham County | D28: 42754 | E28: 42767 | F28: 42767 | G28: A | H28: O | I28: NA | J28: 38942 | K28: 10 | L28: Years | M28: Female | N28: N | O28: NA | P28: Survived | Q28: =E28 -> 42767 | R28: 1
A29: 50022332283 | B29: 9851720 | C29: Ingham County | D29: 42769 | E29: 42780 | F29: 42781 | G29: A | H29: O | I29: NA | J29: 39004 | K29: 10 | L29: Years | M29: Male | N29: N | O29: NA | P29: Survived | Q29: =E29 -> 42780 | R29: 1
A30: 50013303749 | B30: 9747811 | C30: Ingham County | D30: 42764 | E30: 42784 | F30: 42785 | G30: A | H30: O | I30: NA | J30: 38192 | K30: 12 | L30: Years | M30: Female | N30: N | O30: NA | P30: Survived | Q30: =E30 -> 42784 | R30: 1
A31: 50075498930 | B31: 9576645 | C31: Ingham County | D31: 42785 | E31: 42792 | F31: 42793 | G31: A | H31: O | I31: NA | J31: 39737 | K31: 8 | L31: Years | M31: Female | N31: N | O31: NA | P31: Survived | Q31: =E31 -> 42792 | R31: 1
A32: 50013092122 | B32: 9003473 | C32: Ingham County | D32: 42793 | E32: 42802 | F32: 42804 | G32: A | H32: O | I32: NA | J32: 39717 | K32: 8 | L32: Years | M32: Female | N32: N | O32: NA | P32: Survived | Q32: =E32 -> 42802 | R32: 1
A33: 50089810957 | B33: 9574923 | C33: Ingham County | D33: 42813 | E33: 42822 | F33: 42823 | G33: A | H33: O | I33: NA | J33: 38293 | K33: 12 | L33: Years | M33: Female | N33: N | O33: NA | P33: Survived | Q33: =E33 -> 42822 | R33: 1
... A36: 50054350927 | B36: 9429044 | C36: Ingham County | D36: 42832 | E36: 42842 | F36: 42842 | G36: A | H36: O | I36: NA | J36: 39656 | K36: 8 | L36: Years | M36: Female | N36: N | O36: NA | P36: Survived | Q36: =E36 -> 42842 | R36: 1
A37: 50070909571 | B37: 9634112 | C37: Ingham County | D37: 42834 | E37: 42840 | F37: 42842 | G37: A | H37: I | I37: NA | J37: 39798 | K37: 8 | L37: Years | M37: Male | N37: Y | O37: 42850 | P37: Survived | Q37: =E37 -> 42840 | R37: 1
A38: 50055822336 | B38: 9842921 | C38: Ingham County | D38: 42832 | E38: 42844 | F38: 42845 | G38: A | H38: O | I38: NA | J38: 39228 | K38: 9 | L38: Years | M38: Male | N38: N | O38: NA | P38: Survived | Q38: =E38 -> 42844 | R38: 1
A39: 50010933265 | B39: 9072209 | C39: Ingham County | D39: 42831 | E39: 42850 | F39: 42850 | G39: A | H39: O | I39: NA | J39: 39041 | K39: 10 | L39: Years | M39: Female | N39: N | O39: NA | P39: Survived | Q39: =E39 -> 42850 | R39: 1
A40: 50005375546 | B40: 9930531 | C40: Ingham County | D40: 42837 | E40: 42855 | F40: 42856 | G40: A | H40: O | I40: NA | J40: 38208 | K40: 12 | L40: Years | M40: Female | N40: N | O40: NA | P40: Survived | Q40: =E40 -> 42855 | R40: 1
A41: 50028542413 | B41: 9064145 | C41: Ingham County | D41: 42848 | E41: 42861 | F41: 42861 | G41: A | H41: O | I41: NA | J41: 39121 | K41: 10 | L41: Years | M41: Female | N41: N | O41: NA | P41: Survived | Q41: =E41 -> 42861 | R41: 1
A42: 50039030733 | B42: 9284301 | C42: Ingham County | D42: 42857 | E42: 42865 | F42: 42866 | G42: A | H42: O | I42: NA | J42: 39210 | K42: 10 | L42: Years | M42: Male | N42: N | O42: NA | P42: Survived | Q42: =E42 -> 42865 | R42: 1
...

Sheet Figures
A3: Count of InvestigationID | B3: Column Labels
A4: Row Labels | B4: Female | C4: Male | D4: Grand Total | G4: Uncensored | O4: Censored
A5: 2015 | B5: 6 | C5: 6 | D5: 12 | G5: 5-year rolling total | H5: Rates | J5: Counts | L5: Endpoint Population | O5: 5-year rolling total | P5: Rates
A6: 2016 | B6: 6 | C6: 6 | D6: 12 | G6: period | H6: Female | I6: Male | J6: Female Count | K6: Male Count | L6: F-pop | M6: M-pop | O6: period | P6: Female | Q6: Male
A7: 2017 | B7: 21 | C7: 24 | D7: 45 | G7: 2015-2019 | H7: =(J7/5)*100000/L7 -> 7.1915619 | I7: =(K7/5)*100000/M7 -> 8.2964213 | J7: =SUM(B5:B9) -> 54 | K7: =SUM(C5:C9) -> 59 | L7: =population!D2 -> 150176 | M7: =population!D8 -> 142230 | O7: 2015-2019 | P7: =IF(J7>=20,(J7*100000/L7)/5,"**") -> 7.1915619 | Q7: =IF(K7>=20,(K7*100000/M7)/5,"**") -> 8.2964213
A8: 2018 | B8: 11 | C8: 12 | D8: 23 | G8: 2016-2020 | H8: =(J8/5)*100000/L8 -> 6.513332 | I8: =(K8/5)*100000/M8 -> 7.6688206 | J8: =SUM(B6:B10) -> 48 | K8: =SUM(C6:C10) -> 54 | L8: =population!D3 -> 147390 | M8: =population!D9 -> 140830 | O8: 2016-2020 | P8: =IF(J8>=20,(J8*100000/L8)/5,"**") -> 6.513332 | Q8: =IF(K8>=20,(K8*100000/M8)/5,"**") -> 7.6688206
A9: 2019 | B9: 10 | C9: 11 | D9: 21 | G9: 2017-2021 | H9: =(J9/5)*100000/L9 -> 6.0855855 | I9: =(K9/5)*100000/M9 -> 7.0286165 | J9: =SUM(B7:B11) -> 44 | K9: =SUM(C7:C11) -> 49 | L9: =population!D4 -> 144604 | M9: =population!D10 -> 139430 | O9: 2017-2021 | P9: =IF(J9>=20,(J9*100000/L9)/5,"**") -> 6.0855855 | Q9: =IF(K9>=20,(K9*100000/M9)/5,"**") -> 7.0286165
A10: 2020 | C10: 1 | D10: 1 | G10: 2018-2022 | H10: =(J10/5)*100000/L10 -> 3.5680223 | I10: =(K10/5)*100000/M10 -> 3.7580672 | J10: =SUM(B8:B12) -> 26 | K10: =SUM(C8:C12) -> 26 | L10: =population!D5 -> 145739 | M10: =population!D11 -> 138369 | O10: 2018-2022 | P10: =IF(J10>=20,(J10*100000/L10)/5,"**") -> 3.5680223 | Q10: =IF(K10>=20,(K10*100000/M10)/5,"**") -> 3.7580672
A11: 2021 | B11: 2 | C11: 1 | D11: 3 | G11: 2019-2023 | H11: =(J11/5)*100000/L11 -> 2.595008 | I11: =(K11/5)*100000/M11 -> 2.7495984 | J11: =SUM(B9:B13) -> 19 | K11: =SUM(C9:C13) -> 19 | L11: =population!D6 -> 146435 | M11: =population!D12 -> 138202 | O11: 2019-2023 | P11: =IF(J11>=20,(J11*100000/L11)/5,"**") -> ** | Q11: =IF(K11>=20,(K11*100000/M11)/5,"**") -> **
A12: 2022 | B12: 3 | C12: 1 | D12: 4 | G12: 2020-2024 | H12: =(J12/5)*100000/L12 -> 5.5030972 | I12: =(K12/5)*100000/M12 -> 6.6468675 | J12: =SUM(B10:B14) -> 41 | K12: =SUM(C10:C14) -> 47 | L12: =population!D7 -> 149007 | M12: =population!D13 -> 141420 | O12: 2020-2024 | P12: =IF(J12>=20,(J12*100000/L12)/5,"**") -> 5.5030972 | Q12: =IF(K12>=20,(K12*100000/M12)/5,"**") -> 6.6468675
A13: 2023 | B13: 4 | C13: 5 | D13: 9
A14: 2024 | B14: 32 | C14: 39 | D14: 71
A15: Grand Total | B15: 95 | C15: 106 | D15: 201
A23: Things to illustrate
A24: - change the data to have a different (earlier year) and see that it messes up the order
A25: - illustrate how you have to change to get month

Sheet population
A1: year | B1: geo | C1: sex | D1: population
A2: 2019 | B2: Ingham County, Michigan | C2: Female | D2: 150176
A3: 2020 | B3: Ingham County, Michigan | C3: Female | D3: 147390
A4: 2021 | B4: Ingham County, Michigan | C4: Female | D4: 144604
A5: 2022 | B5: Ingham County, Michigan | C5: Female | D5: 145739
A6: 2023 | B6: Ingham County, Michigan | C6: Female | D6: 146435
A7: 2024 | B7: Ingham County, Michigan | C7: Female | D7: 149007
A8: 2019 | B8: Ingham County, Michigan | C8: Male | D8: 142230
A9: 2020 | B9: Ingham County, Michigan | C9: Male | D9: 140830
A10: 2021 | B10: Ingham County, Michigan | C10: Male | D10: 139430
A11: 2022 | B11: Ingham County, Michigan | C11: Male | D11: 138369
A12: 2023 | B12: Ingham County, Michigan | C12: Male | D12: 138202
A13: 2024 | B13: Ingham County, Michigan | C13: Male | D13: 141420
