Workbook

Sheet Sheet1
A1: Exported from MDSS on July 20, 2026 at 8:46 AM
A2: InvestigationID | B2: NETSSID | C2: JURISDICTION | D2: Onset_Date | E2: Diagnosis_Date | F2: Referral_Date | G2: Patient_Status | H2: Case_Disposition | I2: Date_of_Death | J2: Date_of_Birth | K2: Age | L2: Age_Units | M2: Sex | N2: Patient_Hospitalized | O2: Admission_Date | P2: Patient_Died | Q2: Month | R2: One
A3: 50029313384 | B3: 9544276 | C3: Ingham County | D3: 41992 | E3: 42005 | F3: 42005 | G3: A | H3: O | I3: NA | J3: 38982 | K3: 8 | L3: Years | M3: Male | N3: N | O3: NA | P3: Survived | Q3: =E3 -> 42005 | R3: 1
A4: 50094887643 | B4: 9620684 | C4: Ingham County | D4: 42015 | E4: 42029 | F4: 42031 | G4: A | H4: O | I4: NA | J4: 37741 | K4: 11 | L4: Years | M4: Male | N4: N | O4: NA | P4: Survived | Q4: =E4 -> 42029 | R4: 1
A5: 50064278482 | B5: 9053669 | C5: Ingham County | D5: 42065 | E5: 42079 | F5: 42081 | G5: A | H5: O | I5: NA | J5: 37651 | K5: 12 | L5: Years | M5: Female | N5: N | O5: NA | P5: Survived | Q5: =E5 -> 42079 | R5: 1
A6: 50091809198 | B6: 9790179 | C6: Ingham County | D6: 42133 | E6: 42138 | F6: 42139 | G6: A | H6: I | I6: NA | J6: 38257 | K6: 10 | L6: Years | M6: Female | N6: Y | O6: 42154 | P6: Survived | Q6: =E6 -> 42138 | R6: 1
A7: 50009619282 | B7: 9947773 | C7: Ingham County | D7: 42172 | E7: 42177 | F7: 42177 | G7: A | H7: O | I7: NA | J7: 37340 | K7: 13 | L7: Years | M7: Male | N7: N | O7: NA | P7: Survived | Q7: =E7 -> 42177 | R7: 1
A8: 50016127508 | B8: 9849523 | C8: Ingham County | D8: 42182 | E8: 42194 | F8: 42194 | G8: A | H8: I | I8: NA | J8: 37785 | K8: 12 | L8: Years | M8: Female | N8: Y | O8: 42205 | P8: Survived | Q8: =E8 -> 42194 | R8: 1
A9: 50000828023 | B9: 9851376 | C9: Ingham County | D9: 42191 | E9: 42196 | F9: 42198 | G9: A | H9: O | I9: NA | J9: 37281 | K9: 13 | L9: Years | M9: Male | N9: N | O9: NA | P9: Survived | Q9: =E9 -> 42196 | R9: 1
A10: 50055258308 | B10: 9206217 | C10: Ingham County | D10: 42232 | E10: 42248 | F10: 42248 | G10: A | H10: O | I10: NA | J10: 37285 | K10: 13 | L10: Years | M10: Female | N10: N | O10: NA | P10: Survived | Q10: =E10 -> 42248 | R10: 1
A11: 50037692115 | B11: 9457387 | C11: Ingham County | D11: 42270 | E11: 42279 | F11: 42280 | G11: A | H11: O | I11: NA | J11: 39000 | K11: 8 | L11: Years | M11: Male | N11: N | O11: NA | P11: Survived | Q11: =E11 -> 42279 | R11: 1
A12: 50015384335 | B12: 9152994 | C12: Ingham County | D12: 42340 | E12: 42359 | F12: 42359 | G12: A | H12: O | I12: NA | J12: 38089 | K12: 11 | L12: Years | M12: Female | N12: N | O12: NA | P12: Survived | Q12: =E12 -> 42359 | R12: 1
A13: 50097956023 | B13: 9705457 | C13: Ingham County | D13: 42347 | E13: 42363 | F13: 42363 | G13: A | H13: O | I13: NA | J13: 38633 | K13: 10 | L13: Years | M13: Male | N13: N | O13: NA | P13: Survived | Q13: =E13 -> 42363 | R13: 1
A14: 50060436628 | B14: 9035939 | C14: Ingham County | D14: 42348 | E14: 42368 | F14: 42368 | G14: A | H14: O | I14: NA | J14: 38848 | K14: 9 | L14: Years | M14: Female | N14: N | O14: NA | P14: Survived | Q14: =E14 -> 42368 | R14: 1
A15: 50034303079 | B15: 9004908 | C15: Ingham County | D15: 42358 | E15: 42370 | F15: 42372 | G15: A | H15: O | I15: NA | J15: 37931 | K15: 12 | L15: Years | M15: Male | N15: N | O15: NA | P15: Survived | Q15: =E15 -> 42370 | R15: 1
A16: 50076779957 | B16: 9331084 | C16: Ingham County | D16: 42379 | E16: 42398 | F16: 42398 | G16: A | H16: O | I16: NA | J16: 37569 | K16: 13 | L16: Years | M16: Female | N16: N | O16: NA | P16: Survived | Q16: =E16 -> 42398 | R16: 1
A17: 50059592265 | B17: 9905761 | C17: Ingham County | D17: 42421 | E17: 42437 | F17: 42437 | G17: A | H17: O | I17: NA | J17: 37628 | K17: 13 | L17: Years | M17: Male | N17: N | O17: NA | P17: Survived | Q17: =E17 -> 42437 | R17: 1
A18: 50077996368 | B18: 9089107 | C18: Ingham County | D18: 42469 | E18: 42477 | F18: 42477 | G18: A | H18: O | I18: NA | J18: 38536 | K18: 10 | L18: Years | M18: Female | N18: N | O18: NA | P18: Survived | Q18: =E18 -> 42477 | R18: 1
A19: 50004673226 | B19: 9722822 | C19: Ingham County | D19: 42469 | E19: 42489 | F19: 42489 | G19: A | H19: O | I19: NA | J19: 38358 | K19: 11 | L19: Years | M19: Female | N19: N | O19: NA | P19: Survived | Q19: =E19 -> 42489 | R19: 1
A20: 50084061537 | B20: 9798591 | C20: Ingham County | D20: 42485 | E20: 42500 | F20: 42503 | G20: A | H20: O | I20: NA | J20: 39352 | K20: 8 | L20: Years | M20: Female | N20: N | O20: NA | P20: Survived | Q20: =E20 -> 42500 | R20: 1
A21: 50014123368 | B21: 9633161 | C21: Ingham County | D21: 42498 | E21: 42515 | F21: 42516 | G21: A | H21: I | I21: NA | J21: 38913 | K21: 9 | L21: Years | M21: Male | N21: Y | O21: 42522 | P21: Survived | Q21: =E21 -> 42515 | R21: 1
A22: 50004520273 | B22: 9795576 | C22: Ingham County | D22: 42530 | E22: 42547 | F22: 42548 | G22: A | H22: O | I22: NA | J22: 38976 | K22: 9 | L22: Years | M22: Female | N22: N | O22: NA | P22: Survived | Q22: =E22 -> 42547 | R22: 1
A23: 50064432105 | B23: 9534422 | C23: Ingham County | D23: 42560 | E23: 42566 | F23: 42566 | G23: A | H23: O | I23: NA | J23: 39523 | K23: 8 | L23: Years | M23: Female | N23: N | O23: NA | P23: Survived | Q23: =E23 -> 42566 | R23: 1
A24: 50038113632 | B24: 9393144 | C24: Ingham County | D24: 42577 | E24: 42585 | F24: 42585 | G24: A | H24: O | I24: NA | J24: 39416 | K24: 8 | L24: Years | M24: Male | N24: N | O24: NA | P24: Survived | Q24: =E24 -> 42585 | R24: 1
A25: 50004749062 | B25: 9239410 | C25: Ingham County | D25: 42609 | E25: 42622 | F25: 42624 | G25: A | H25: O | I25: NA | J25: 37690 | K25: 13 | L25: Years | M25: Male | N25: N | O25: NA | P25: Survived | Q25: =E25 -> 42622 | R25: 1
A26: 50031934105 | B26: 9261282 | C26: Ingham County | D26: 42705 | E26: 42720 | F26: 42720 | G26: A | H26: O | I26: NA | J26: 37903 | K26: 13 | L26: Years | M26: Male | N26: N | O26: NA | P26: Survived | Q26: =E26 -> 42720 | R26: 1
A27: 50090996420 | B27: 9403973 | C27: Ingham County | D27: 42728 | E27: 42746 | F27: 42747 | G27: A | H27: O | I27: NA | J27: 39568 | K27: 8 | L27: Years | M27: Male | N27: N | O27: NA | P27: Survived | Q27: =E27 -> 42746 | R27: 1
A28: 50023482301 | B28: 9935191 | C28: Ingham County | D28: 42754 | E28: 42767 | F28: 42767 | G28: A | H28: O | I28: NA | J28: 38942 | K28: 10 | L28: Years | M28: Female | N28: N | O28: NA | P28: Survived | Q28: =E28 -> 42767 | R28: 1
A29: 50022332283 | B29: 9851720 | C29: Ingham County | D29: 42769 | E29: 42780 | F29: 42781 | G29: A | H29: O | I29: NA | J29: 39004 | K29: 10 | L29: Years | M29: Male | N29: N | O29: NA | P29: Survived | Q29: =E29 -> 42780 | R29: 1
A30: 50013303749 | B30: 9747811 | C30: Ingham County | D30: 42764 | E30: 42784 | F30: 42785 | G30: A | H30: O | I30: NA | J30: 38192 | K30: 12 | L30: Years | M30: Female | N30: N | O30: NA | P30: Survived | Q30: =E30 -> 42784 | R30: 1
A31: 50075498930 | B31: 9576645 | C31: Ingham County | D31: 42785 | E31: 42792 | F31: 42793 | G31: A | H31: O | I31: NA | J31: 39737 | K31: 8 | L31: Years | M31: Female | N31: N | O31: NA | P31: Survived | Q31: =E31 -> 42792 | R31: 1
A32: 50013092122 | B32: 9003473 | C32: Ingham County | D32: 42793 | E32: 42802 | F32: 42804 | G32: A | H32: O | I32: NA | J32: 39717 | K32: 8 | L32: Years | M32: Female | N32: N | O32: NA | P32: Survived | Q32: =E32 -> 42802 | R32: 1
A33: 50089810957 | B33: 9574923 | C33: Ingham County | D33: 42813 | E33: 42822 | F33: 42823 | G33: A | H33: O | I33: NA | J33: 38293 | K33: 12 | L33: Years | M33: Female | N33: N | O33: NA | P33: Survived | Q33: =E33 -> 42822 | R33: 1
... A36: 50054350927 | B36: 9429044 | C36: Ingham County | D36: 42832 | E36: 42842 | F36: 42842 | G36: A | H36: O | I36: NA | J36: 39656 | K36: 8 | L36: Years | M36: Female | N36: N | O36: NA | P36: Survived | Q36: =E36 -> 42842 | R36: 1
A37: 50070909571 | B37: 9634112 | C37: Ingham County | D37: 42834 | E37: 42840 | F37: 42842 | G37: A | H37: I | I37: NA | J37: 39798 | K37: 8 | L37: Years | M37: Male | N37: Y | O37: 42850 | P37: Survived | Q37: =E37 -> 42840 | R37: 1
A38: 50055822336 | B38: 9842921 | C38: Ingham County | D38: 42832 | E38: 42844 | F38: 42845 | G38: A | H38: O | I38: NA | J38: 39228 | K38: 9 | L38: Years | M38: Male | N38: N | O38: NA | P38: Survived | Q38: =E38 -> 42844 | R38: 1
A39: 50010933265 | B39: 9072209 | C39: Ingham County | D39: 42831 | E39: 42850 | F39: 42850 | G39: A | H39: O | I39: NA | J39: 39041 | K39: 10 | L39: Years | M39: Female | N39: N | O39: NA | P39: Survived | Q39: =E39 -> 42850 | R39: 1
A40: 50005375546 | B40: 9930531 | C40: Ingham County | D40: 42837 | E40: 42855 | F40: 42856 | G40: A | H40: O | I40: NA | J40: 38208 | K40: 12 | L40: Years | M40: Female | N40: N | O40: NA | P40: Survived | Q40: =E40 -> 42855 | R40: 1
A41: 50028542413 | B41: 9064145 | C41: Ingham County | D41: 42848 | E41: 42861 | F41: 42861 | G41: A | H41: O | I41: NA | J41: 39121 | K41: 10 | L41: Years | M41: Female | N41: N | O41: NA | P41: Survived | Q41: =E41 -> 42861 | R41: 1
A42: 50039030733 | B42: 9284301 | C42: Ingham County | D42: 42857 | E42: 42865 | F42: 42866 | G42: A | H42: O | I42: NA | J42: 39210 | K42: 10 | L42: Years | M42: Male | N42: N | O42: NA | P42: Survived | Q42: =E42 -> 42865 | R42: 1
A43: 50088140177 | B43: 9042510 | C43: Ingham County | D43: 42868 | E43: 42881 | F43: 42881 | G43: A | H43: O | I43: NA | J43: 38348 | K43: 12 | L43: Years | M43: Male | N43: N | O43: NA | P43: Survived | Q43: =E43 -> 42881 | R43: 1
A44: 50003082248 | B44: 9124736 | C44: Ingham County | D44: 42868 | E44: 42886 | F44: 42886 | G44: A | H44: O | I44: NA | J44: 38819 | K44: 11 | L44: Years | M44: Female | N44: N | O44: NA | P44: Survived | Q44: =E44 -> 42886 | R44: 1
A45: 50053551096 | B45: 9763798 | C45: Ingham County | D45: 42868 | E45: 42888 | F45: 42888 | G45: A | H45: O | I45: NA | J45: 39441 | K45: 9 | L45: Years | M45: Male | N45: N | O45: NA | P45: Survived | Q45: =E45 -> 42888 | R45: 1
A46: 50086110547 | B46: 9967709 | C46: Ingham County | D46: 42874 | E46: 42893 | F46: 42893 | G46: A | H46: O | I46: NA | J46: 39497 | K46: 9 | L46: Years | M46: Male | N46: N | O46: NA | P46: Survived | Q46: =E46 -> 42893 | R46: 1
A47: 50092817627 | B47: 9492372 | C47: Ingham County | D47: 42889 | E47: 42904 | F47: 42904 | G47: A | H47: O | I47: NA | J47: 38482 | K47: 12 | L47: Years | M47: Male | N47: N | O47: NA | P47: Survived | Q47: =E47 -> 42904 | R47: 1
A48: 50010420296 | B48: 9920507 | C48: Ingham County | D48: 42904 | E48: 42914 | F48: 42915 | G48: A | H48: O | I48: NA | J48: 39754 | K48: 8 | L48: Years | M48: Male | N48: N | O48: NA | P48: Survived | Q48: =E48 -> 42914 | R48: 1
A49: 50069420303 | B49: 9464667 | C49: Ingham County | D49: 42914 | E49: 42920 | F49: 42920 | G49: A | H49: I | I49: NA | J49: 39556 | K49: 9 | L49: Years | M49: Male | N49: Y | O49: 42931 | P49: Survived | Q49: =E49 -> 42920 | R49: 1
A50: 50068734449 | B50: 9191312 | C50: Ingham County | D50: 42905 | E50: 42919 | F50: 42920 | G50: A | H50: O | I50: NA | J50: 39796 | K50: 8 | L50: Years | M50: Male | N50: N | O50: NA | P50: Survived | Q50: =E50 -> 42919 | R50: 1
A51: 50011207343 | B51: 9817436 | C51: Ingham County | D51: 42921 | E51: 42929 | F51: 42929 | G51: A | H51: O | I51: NA | J51: 38353 | K51: 12 | L51: Years | M51: Male | N51: N | O51: NA | P51: Survived | Q51: =E51 -> 42929 | R51: 1
A52: 50055138810 | B52: 9868412 | C52: Ingham County | D52: 42917 | E52: 42930 | F52: 42932 | G52: A | H52: O | I52: NA | J52: 39170 | K52: 10 | L52: Years | M52: Female | N52: N | O52: NA | P52: Survived | Q52: =E52 -> 42930 | R52: 1
A53: 50093296186 | B53: 9221812 | C53: Ingham County | D53: 42934 | E53: 42939 | F53: 42939 | G53: A | H53: O | I53: NA | J53: 38753 | K53: 11 | L53: Years | M53: Female | N53: N | O53: NA | P53: Survived | Q53: =E53 -> 42939 | R53: 1
A54: 50022400182 | B54: 9313510 | C54: Ingham County | D54: 42937 | E54: 42945 | F54: 42945 | G54: A | H54: O | I54: NA | J54: 39733 | K54: 8 | L54: Years | M54: Female | N54: N | O54: NA | P54: Survived | Q54: =E54 -> 42945 | R54: 1
A55: 50070615349 | B55: 9409023 | C55: Ingham County | D55: 42948 | E55: 42962 | F55: 42963 | G55: A | H55: I | I55: NA | J55: 38932 | K55: 11 | L55: Years | M55: Male | N55: Y | O55: 42966 | P55: Survived | Q55: =E55 -> 42962 | R55: 1
A56: 50029672475 | B56: 9532118 | C56: Ingham County | D56: 42956 | E56: 42967 | F56: 42968 | G56: A | H56: O | I56: NA | J56: 38623 | K56: 11 | L56: Years | M56: Male | N56: N | O56: NA | P56: Survived | Q56: =E56 -> 42967 | R56: 1
A57: 50081659189 | B57: 9502583 | C57: Ingham County | D57: 42965 | E57: 42972 | F57: 42973 | G57: A | H57: I | I57: NA | J57: 38710 | K57: 11 | L57: Years | M57: Male | N57: Y | O57: 42986 | P57: Survived | Q57: =E57 -> 42972 | R57: 1
A58: 50088619327 | B58: 9632802 | C58: Ingham County | D58: 42969 | E58: 42984 | F58: 42986 | G58: A | H58: O | I58: NA | J58: 39719 | K58: 8 | L58: Years | M58: Male | N58: N | O58: NA | P58: Survived | Q58: =E58 -> 42984 | R58: 1
A59: 50070932613 | B59: 9417680 | C59: Ingham County | D59: 42977 | E59: 42987 | F59: 42989 | G59: A | H59: I | I59: NA | J59: 39623 | K59: 9 | L59: Years | M59: Female | N59: Y | O59: 42998 | P59: Survived | Q59: =E59 -> 42987 | R59: 1
A60: 50094441268 | B60: 9995142 | C60: Ingham County | D60: 42996 | E60: 43010 | F60: 43013 | G60: A | H60: O | I60: NA | J60: 38099 | K60: 13 | L60: Years | M60: Female | N60: N | O60: NA | P60: Survived | Q60: =E60 -> 43010 | R60: 1
A61: 50012418367 | B61: 9309716 | C61: Ingham County | D61: 43001 | E61: 43012 | F61: 43013 | G61: A | H61: O | I61: NA | J61: 38334 | K61: 12 | L61: Years | M61: Male | N61: N | O61: NA | P61: Survived | Q61: =E61 -> 43012 | R61: 1
A62: 50095593546 | B62: 9688971 | C62: Ingham County | D62: 43017 | E62: 43023 | F62: 43023 | G62: A | H62: I | I62: NA | J62: 39260 | K62: 10 | L62: Years | M62: Female | N62: Y | O62: 43040 | P62: Survived | Q62: =E62 -> 43023 | R62: 1
A63: 50060319133 | B63: 9029957 | C63: Ingham County | D63: 43017 | E63: 43033 | F63: 43034 | G63: A | H63: O | I63: NA | J63: 38853 | K63: 11 | L63: Years | M63: Male | N63: N | O63: NA | P63: Survived | Q63: =E63 -> 43033 | R63: 1
A64: 50003981020 | B64: 9109246 | C64: Ingham County | D64: 43029 | E64: 43040 | F64: 43040 | G64: A | H64: O | I64: NA | J64: 39981 | K64: 8 | L64: Years | M64: Female | N64: N | O64: NA | P64: Survived | Q64: =E64 -> 43040 | R64: 1
A65: 50011906641 | B65: 9401867 | C65: Ingham County | D65: 43037 | E65: 43043 | F65: 43043 | G65: A | H65: O | I65: NA | J65: 38930 | K65: 11 | L65: Years | M65: Female | N65: N | O65: NA | P65: Survived | Q65: =E65 -> 43043 | R65: 1
A66: 50039100103 | B66: 9472121 | C66: Ingham County | D66: 43030 | E66: 43045 | F66: 43045 | G66: A | H66: O | I66: NA | J66: 38265 | K66: 13 | L66: Years | M66: Male | N66: N | O66: NA | P66: Survived | Q66: =E66 -> 43045 | R66: 1
A67: 50062055878 | B67: 9038383 | C67: Ingham County | D67: 43027 | E67: 43046 | F67: 43046 | G67: A | H67: O | I67: NA | J67: 39053 | K67: 10 | L67: Years | M67: Male | N67: N | O67: NA | P67: Survived | Q67: =E67 -> 43046 | R67: 1
A68: 50037634328 | B68: 9211226 | C68: Ingham County | D68: 43045 | E68: 43053 | F68: 43053 | G68: A | H68: O | I68: NA | J68: 39693 | K68: 9 | L68: Years | M68: Female | N68: N | O68: NA | P68: Survived | Q68: =E68 -> 43053 | R68: 1
A69: 50019870578 | B69: 9225438 | C69: Ingham County | D69: 43039 | E69: 43054 | F69: 43055 | G69: A | H69: O | I69: NA | J69: 39970 | K69: 8 | L69: Years | M69: Female | N69: N | O69: NA | P69: Survived | Q69: =E69 -> 43054 | R69: 1
A70: 50031096382 | B70: 9588709 | C70: Ingham County | D70: 43053 | E70: 43068 | F70: 43068 | G70: A | H70: O | I70: NA | J70: 39891 | K70: 8 | L70: Years | M70: Male | N70: N | O70: NA | P70: Survived | Q70: =E70 -> 43068 | R70: 1
A71: 50051644062 | B71: 9696120 | C71: Ingham County | D71: 43072 | E71: 43086 | F71: 43088 | G71: A | H71: O | I71: NA | J71: 39255 | K71: 10 | L71: Years | M71: Male | N71: N | O71: NA | P71: Survived | Q71: =E71 -> 43086 | R71: 1
A72: 50072300711 | B72: 9140840 | C72: Ingham County | D72: 43114 | E72: 43132 | F72: 43134 | G72: A | H72: I | I72: NA | J72: 39151 | K72: 10 | L72: Years | M72: Female | N72: Y | O72: 43135 | P72: Survived | Q72: =E72 -> 43132 | R72: 1
A73: 50064982271 | B73: 9375367 | C73: Ingham County | D73: 43120 | E73: 43137 | F73: 43138 | G73: A | H73: O | I73: NA | J73: 40003 | K73: 8 | L73: Years | M73: Male | N73: N | O73: NA | P73: Survived | Q73: =E73 -> 43137 | R73: 1
A74: 50049487513 | B74: 9251247 | C74: Ingham County | D74: 43131 | E74: 43141 | F74: 43142 | G74: A | H74: O | I74: NA | J74: 39845 | K74: 9 | L74: Years | M74: Female | N74: N | O74: NA | P74: Survived | Q74: =E74 -> 43141 | R74: 1
A75: 50083936883 | B75: 9315350 | C75: Ingham County | D75: 43133 | E75: 43147 | F75: 43148 | G75: A | H75: O | I75: NA | J75: 39089 | K75: 11 | L75: Years | M75: Male | N75: N | O75: NA | P75: Survived | Q75: =E75 -> 43147 | R75: 1
A76: 50067348033 | B76: 9211412 | C76: Ingham County | D76: 43155 | E76: 43166 | F76: 43169 | G76: A | H76: O | I76: NA | J76: 39920 | K76: 8 | L76: Years | M76: Male | N76: N | O76: NA | P76: Survived | Q76: =E76 -> 43166 | R76: 1
A77: 50036814838 | B77: 9364423 | C77: Ingham County | D77: 43178 | E77: 43187 | F77: 43187 | G77: A | H77: O | I77: NA | J77: 39481 | K77: 10 | L77: Years | M77: Female | N77: N | O77: NA | P77: Survived | Q77: =E77 -> 43187 | R77: 1
A78: 50056832558 | B78: 9620313 | C78: Ingham County | D78: 43190 | E78: 43210 | F78: 43212 | G78: A | H78: O | I78: NA | J78: 39104 | K78: 11 | L78: Years | M78: Male | N78: N | O78: NA | P78: Survived | Q78: =E78 -> 43210 | R78: 1
A79: 50015529412 | B79: 9591938 | C79: Ingham County | D79: 43201 | E79: 43221 | F79: 43223 | G79: A | H79: I | I79: NA | J79: 39406 | K79: 10 | L79: Years | M79: Male | N79: Y | O79: 43224 | P79: Survived | Q79: =E79 -> 43221 | R79: 1
A80: 50000730076 | B80: 9966244 | C80: Ingham County | D80: 43213 | E80: 43228 | F80: 43230 | G80: A | H80: I | I80: NA | J80: 38228 | K80: 13 | L80: Years | M80: Male | N80: Y | O80: 43229 | P80: Survived | Q80: =E80 -> 43228 | R80: 1
A81: 50042655603 | B81: 9062809 | C81: Ingham County | D81: 43230 | E81: 43247 | F81: 43247 | G81: A | H81: I | I81: NA | J81: 38390 | K81: 13 | L81: Years | M81: Male | N81: Y | O81: 43252 | P81: Survived | Q81: =E81 -> 43247 | R81: 1
A82: 50042823840 | B82: 9115535 | C82: Ingham County | D82: 43245 | E82: 43250 | F82: 43250 | G82: A | H82: I | I82: NA | J82: 39826 | K82: 9 | L82: Years | M82: Male | N82: Y | O82: 43269 | P82: Survived | Q82: =E82 -> 43250 | R82: 1
A83: 50007918132 | B83: 9741165 | C83: Ingham County | D83: 43235 | E83: 43255 | F83: 43257 | G83: A | H83: O | I83: NA | J83: 38504 | K83: 13 | L83: Years | M83: Male | N83: N | O83: NA | P83: Survived | Q83: =E83 -> 43255 | R83: 1
A84: 50041036958 | B84: 9330475 | C84: Ingham County | D84: 43245 | E84: 43263 | F84: 43266 | G84: A | H84: O | I84: NA | J84: 38462 | K84: 13 | L84: Years | M84: Female | N84: N | O84: NA | P84: Survived | Q84: =E84 -> 43263 | R84: 1
A85: 50092580325 | B85: 9415944 | C85: Ingham County | D85: 43250 | E85: 43267 | F85: 43267 | G85: A | H85: O | I85: NA | J85: 39786 | K85: 9 | L85: Years | M85: Female | N85: N | O85: NA | P85: Survived | Q85: =E85 -> 43267 | R85: 1
A86: 50025187248 | B86: 9104749 | C86: Ingham County | D86: 43257 | E86: 43272 | F86: 43272 | G86: A | H86: O | I86: NA | J86: 38463 | K86: 13 | L86: Years | M86: Female | N86: N | O86: NA | P86: Survived | Q86: =E86 -> 43272 | R86: 1
A87: 50005413951 | B87: 9736687 | C87: Ingham County | D87: 43290 | E87: 43307 | F87: 43307 | G87: A | H87: O | I87: NA | J87: 39156 | K87: 11 | L87: Years | M87: Female | N87: N | O87: NA | P87: Survived | Q87: =E87 -> 43307 | R87: 1
A88: 50058680134 | B88: 9485742 | C88: Ingham County | D88: 43322 | E88: 43327 | F88: 43327 | G88: A | H88: O | I88: NA | J88: 40176 | K88: 8 | L88: Years | M88: Male | N88: N | O88: NA | P88: Survived | Q88: =E88 -> 43327 | R88: 1
A89: 50012084349 | B89: 9072847 | C89: Ingham County | D89: 43350 | E89: 43358 | F89: 43358 | G89: A | H89: O | I89: NA | J89: 38764 | K89: 12 | L89: Years | M89: Female | N89: N | O89: NA | P89: Survived | Q89: =E89 -> 43358 | R89: 1
A90: 50079707599 | B90: 9049788 | C90: Ingham County | D90: 43353 | E90: 43362 | F90: 43363 | G90: A | H90: O | I90: NA | J90: 40180 | K90: 8 | L90: Years | M90: Female | N90: N | O90: NA | P90: Survived | Q90: =E90 -> 43362 | R90: 1
A91: 50031394222 | B91: 9883187 | C91: Ingham County | D91: 43349 | E91: 43364 | F91: 43365 | G91: A | H91: O | I91: NA | J91: 38841 | K91: 12 | L91: Years | M91: Female | N91: N | O91: NA | P91: Survived | Q91: =E91 -> 43364 | R91: 1
A92: 50071110988 | B92: 9439448 | C92: Ingham County | D92: 43376 | E92: 43387 | F92: 43387 | G92: A | H92: O | I92: NA | J92: 38773 | K92: 12 | L92: Years | M92: Male | N92: N | O92: NA | P92: Survived | Q92: =E92 -> 43387 | R92: 1
A93: 50058445216 | B93: 9590353 | C93: Ingham County | D93: 43387 | E93: 43396 | F93: 43399 | G93: A | H93: O | I93: NA | J93: 38781 | K93: 12 | L93: Years | M93: Female | N93: N | O93: NA | P93: Survived | Q93: =E93 -> 43396 | R93: 1
A94: 50095721865 | B94: 9228576 | C94: Ingham County | D94: 43448 | E94: 43465 | F94: 43465 | G94: A | H94: O | I94: NA | J94: 40126 | K94: 9 | L94: Years | M94: Male | N94: N | O94: NA | P94: Survived | Q94: =E94 -> 43465 | R94: 1
... A123: 50009366699 | B123: 9237336 | C123: Ingham County | D123: 44839 | E123: 44844 | F123: 44845 | G123: A | H123: O | I123: NA | J123: 41660 | K123: 8 | L123: Years | M123: Male | N123: N | O123: NA | P123: Survived | Q123: =E123 -> 44844 | R123: 1
A124: 50098387457 | B124: 9161301 | C124: Ingham County | D124: 44915 | E124: 44935 | F124: 44936 | G124: A | H124: I | I124: NA | J124: 40436 | K124: 12 | L124: Years | M124: Female | N124: Y | O124: 44934 | P124: Survived | Q124: =E124 -> 44935 | R124: 1
A125: 50006247261 | B125: 9864261 | C125: Ingham County | D125: 45037 | E125: 45051 | F125: 45051 | G125: A | H125: O | I125: NA | J125: 40562 | K125: 12 | L125: Years | M125: Male | N125: N | O125: NA | P125: Survived | Q125: =E125 -> 45051 | R125: 1
A126: 50027144014 | B126: 9546798 | C126: Ingham County | D126: 45047 | E126: 45059 | F126: 45061 | G126: A | H126: O | I126: NA | J126: 40555 | K126: 12 | L126: Years | M126: Male | N126: N | O126: NA | P126: Survived | Q126: =E126 -> 45059 | R126: 1
A127: 50046206305 | B127: 9674316 | C127: Ingham County | D127: 45076 | E127: 45093 | F127: 45094 | G127: A | H127: O | I127: NA | J127: 42070 | K127: 8 | L127: Years | M127: Male | N127: N | O127: NA | P127: Survived | Q127: =E127 -> 45093 | R127: 1
A128: 50041620094 | B128: 9321190 | C128: Ingham County | D128: 45099 | E128: 45111 | F128: 45112 | G128: A | H128: O | I128: NA | J128: 41800 | K128: 9 | L128: Years | M128: Male | N128: N | O128: NA | P128: Survived | Q128: =E128 -> 45111 | R128: 1
A129: 50095104183 | B129: 9084354 | C129: Ingham County | D129: 45143 | E129: 45156 | F129: 45156 | G129: A | H129: I | I129: NA | J129: 40400 | K129: 13 | L129: Years | M129: Male | N129: Y | O129: 45158 | P129: Survived | Q129: =E129 -> 45156 | R129: 1
A130: 50071250405 | B130: 9795965 | C130: Ingham County | D130: 45160 | E130: 45172 | F130: 45173 | G130: A | H130: O | I130: NA | J130: 41754 | K130: 9 | L130: Years | M130: Female | N130: N | O130: NA | P130: Survived | Q130: =E130 -> 45172 | R130: 1
...

Sheet Figures
A3: Count of InvestigationID | B3: Column Labels
A4: Row Labels | B4: Female | C4: Male | D4: Grand Total | G4: Uncensored | O4: Censored
A5: 2015 | B5: 6 | C5: 6 | D5: 12 | G5: 5-year rolling total | H5: Rates | J5: Counts | L5: Endpoint Population | O5: 5-year rolling total | P5: Rates
A6: 2016 | B6: 6 | C6: 6 | D6: 12 | G6: period | H6: Female | I6: Male | J6: Female Count | K6: Male Count | L6: F-pop | M6: M-pop | O6: period | P6: Female | Q6: Male
A7: 2017 | B7: 21 | C7: 24 | D7: 45 | G7: 2015-2019 | H7: =(J7/5)*100000/L7 -> 7.1915619 | I7: =(K7/5)*100000/M7 -> 8.2964213 | J7: =SUM(B5:B9) -> 54 | K7: =SUM(C5:C9) -> 59 | L7: =population!D2 -> 150176 | M7: =population!D8 -> 142230 | O7: 2015-2019 | P7: =IF(J7>=20,(J7*100000/L7)/5,"**") -> 7.1915619 | Q7: =IF(K7>=20,(K7*100000/M7)/5,"**") -> 8.2964213
A8: 2018 | B8: 11 | C8: 12 | D8: 23 | G8: 2016-2020 | H8: =(J8/5)*100000/L8 -> 6.513332 | I8: =(K8/5)*100000/M8 -> 7.6688206 | J8: =SUM(B6:B10) -> 48 | K8: =SUM(C6:C10) -> 54 | L8: =population!D3 -> 147390 | M8: =population!D9 -> 140830 | O8: 2016-2020 | P8: =IF(J8>=20,(J8*100000/L8)/5,"**") -> 6.513332 | Q8: =IF(K8>=20,(K8*100000/M8)/5,"**") -> 7.6688206
A9: 2019 | B9: 10 | C9: 11 | D9: 21 | G9: 2017-2021 | H9: =(J9/5)*100000/L9 -> 6.0855855 | I9: =(K9/5)*100000/M9 -> 7.0286165 | J9: =SUM(B7:B11) -> 44 | K9: =SUM(C7:C11) -> 49 | L9: =population!D4 -> 144604 | M9: =population!D10 -> 139430 | O9: 2017-2021 | P9: =IF(J9>=20,(J9*100000/L9)/5,"**") -> 6.0855855 | Q9: =IF(K9>=20,(K9*100000/M9)/5,"**") -> 7.0286165
A10: 2020 | C10: 1 | D10: 1 | G10: 2018-2022 | H10: =(J10/5)*100000/L10 -> 3.5680223 | I10: =(K10/5)*100000/M10 -> 3.7580672 | J10: =SUM(B8:B12) -> 26 | K10: =SUM(C8:C12) -> 26 | L10: =population!D5 -> 145739 | M10: =population!D11 -> 138369 | O10: 2018-2022 | P10: =IF(J10>=20,(J10*100000/L10)/5,"**") -> 3.5680223 | Q10: =IF(K10>=20,(K10*100000/M10)/5,"**") -> 3.7580672
A11: 2021 | B11: 2 | C11: 1 | D11: 3 | G11: 2019-2023 | H11: =(J11/5)*100000/L11 -> 2.595008 | I11: =(K11/5)*100000/M11 -> 2.7495984 | J11: =SUM(B9:B13) -> 19 | K11: =SUM(C9:C13) -> 19 | L11: =population!D6 -> 146435 | M11: =population!D12 -> 138202 | O11: 2019-2023 | P11: =IF(J11>=20,(J11*100000/L11)/5,"**") -> ** | Q11: =IF(K11>=20,(K11*100000/M11)/5,"**") -> **
A12: 2022 | B12: 3 | C12: 1 | D12: 4 | G12: 2020-2024 | H12: =(J12/5)*100000/L12 -> 5.5030972 | I12: =(K12/5)*100000/M12 -> 6.6468675 | J12: =SUM(B10:B14) -> 41 | K12: =SUM(C10:C14) -> 47 | L12: =population!D7 -> 149007 | M12: =population!D13 -> 141420 | O12: 2020-2024 | P12: =IF(J12>=20,(J12*100000/L12)/5,"**") -> 5.5030972 | Q12: =IF(K12>=20,(K12*100000/M12)/5,"**") -> 6.6468675
A13: 2023 | B13: 4 | C13: 5 | D13: 9
A14: 2024 | B14: 32 | C14: 39 | D14: 71
A15: Grand Total | B15: 95 | C15: 106 | D15: 201
A23: Things to illustrate
A24: - change the data to have a different (earlier year) and see that it messes up the order
A25: - illustrate how you have to change to get month

Sheet population
A1: year | B1: geo | C1: sex | D1: population
A2: 2019 | B2: Ingham County, Michigan | C2: Female | D2: 150176
A3: 2020 | B3: Ingham County, Michigan | C3: Female | D3: 147390
A4: 2021 | B4: Ingham County, Michigan | C4: Female | D4: 144604
A5: 2022 | B5: Ingham County, Michigan | C5: Female | D5: 145739
A6: 2023 | B6: Ingham County, Michigan | C6: Female | D6: 146435
A7: 2024 | B7: Ingham County, Michigan | C7: Female | D7: 149007
A8: 2019 | B8: Ingham County, Michigan | C8: Male | D8: 142230
A9: 2020 | B9: Ingham County, Michigan | C9: Male | D9: 140830
A10: 2021 | B10: Ingham County, Michigan | C10: Male | D10: 139430
A11: 2022 | B11: Ingham County, Michigan | C11: Male | D11: 138369
A12: 2023 | B12: Ingham County, Michigan | C12: Male | D12: 138202
A13: 2024 | B13: Ingham County, Michigan | C13: Male | D13: 141420
